Workbook

Sheet Общее по упражнеиям
A3: Упражнение | B3: Место | C3: Очки | D3: Время | E3: Хит фактор | F3: Очки | G3: Процент | H3: Стрелок
A4: 1 | B4: 1 | C4: ='1'!B4 -> 84 | D4: ='1'!G4 -> 93.64 | E4: ='1'!A4 -> 0.89705254 | F4: 90 | G4: 100 | H4: Гладков
B5: 3 | C5: ='1'!B5 -> 24 | D5: ='1'!G5 -> 204.79 | E5: ='1'!A5 -> 0.11719322 | F5: =F4*E5/E4 -> 11.757829 | G5: =G4*F5/F4 -> 13.064254 | H5: Тюрин
B6: 2 | C6: ='1'!B6 -> 73 | D6: ='1'!G6 -> 129.4 | E6: ='1'!A6 -> 0.56414219 | F6: =F4*E6/E4 -> 56.59958 | G6: =G4*F6/F4 -> 62.888423 | H6: Терентьев
A8: Упражнение | B8: Место | C8: Очки | D8: Время | E8: Хит фактор | F8: Очки | G8: Процент | H8: Стрелок
A9: 2 | B9: 2 | C9: ='2'!B4 -> 80 | D9: ='2'!G4 -> 75.36 | E9: ='2'!A4 -> 1.0615711 | F9: =F10*E9/E10 -> 80.232558 | G9: =G10*F9/F10 -> 89.147287 | H9: Гладков
B10: 1 | C10: ='2'!B5 -> 86 | D10: ='2'!G5 -> 72.22 | E10: ='2'!A5 -> 1.1908059 | F10: 90 | G10: 100 | H10: Тюрин
B11: 3 | C11: ='2'!B6 -> 57 | D11: ='2'!G6 -> 68.13 | E11: ='2'!A6 -> 0.83663584 | F11: =F10*E11/E10 -> 63.232159 | G11: =G10*F11/F10 -> 70.257954 | H11: Терентьев
A13: Упражнение | B13: Место | C13: Очки | D13: Время | E13: Хит фактор | F13: Очки | G13: Процент | H13: Стрелок
A14: 3 | B14: 1 | C14: ='3'!B4 -> 21 | D14: ='3'!G4 -> 9.47 | E14: ='3'!A4 -> 2.217529 | F14: 25 | G14: 100 | H14: Гладков
B15: 2 | C15: ='3'!B5 -> 21 | D15: ='3'!G5 -> 9.76 | E15: ='3'!A5 -> 2.1516393 | F15: =F14*E15/E14 -> 24.257172 | G15: =G14*F15/F14 -> 97.028689 | H15: Тюрин
B16: 3 | C16: ='3'!B6 -> 23 | D16: ='3'!G6 -> 11.5 | E16: ='3'!A6 -> 2 | F16: =F14*E16/E14 -> 22.547619 | G16: =G14*F16/F14 -> 90.190476 | H16: Терентьев
A18: Упражнение | B18: Место | C18: Очки | D18: Время | E18: Хит фактор | F18: Очки | G18: Процент | H18: Стрелок
A19: 4 | B19: 2 | C19: ='4'!B4 -> 31 | D19: ='4'!G4 -> 33.36 | E19: ='4'!A4 -> 0.92925659 | F19: =F20*E19/E20 -> 31.163887 | G19: =G20*F19/F20 -> 89.039677 | H19: Гладков
B20: 1 | C20: ='4'!B5 -> 33 | D20: ='4'!G5 -> 31.62 | E20: ='4'!A5 -> 1.0436433 | F20: 35 | G20: 100 | H20: Тюрин
B21: 3 | C21: ='4'!B6 -> 33 | D21: ='4'!G6 -> 38.64 | E21: ='4'!A6 -> 0.85403727 | F21: =F20*E21/E20 -> 28.641304 | G21: =G20*F21/F20 -> 81.832298 | H21: Терентьев
A23: Упражнение | B23: Место | C23: Очки | D23: Время | E23: Хит фактор | F23: Очки | G23: Процент | H23: Стрелок
A24: 5 | B24: 1 | C24: ='5'!B4 -> 61 | D24: ='5'!G4 -> 46.28 | E24: ='5'!A4 -> 1.318064 | F24: 100 | G24: 100 | H24: Гладков
B25: 2 | C25: ='5'!B5 -> 78 | D25: ='5'!G5 -> 59.57 | E25: ='5'!A5 -> 1.3093839 | F25: =F24*E25/E24 -> 99.341455 | G25: =G24*F25/F24 -> 99.341455 | H25: Тюрин
B26: 3 | C26: 0 | D26: ='5'!G6 -> 62.49 | E26: 0 | F26: 0 | G26: 0 | H26: Терентьев
A28: Упражнение | B28: Место | C28: Очки | D28: Время | E28: Хит фактор | F28: Очки | G28: Процент | H28: Стрелок
A29: 6 | B29: 3 | C29: ='6'!B4 -> 11 | D29: ='6'!G4 -> 22.57 | E29: ='6'!A4 -> 0.48737262 | F29: =F31*E29/E31 -> 7.4045826 | G29: =G31*F29/F31 -> 24.681942 | H29: Гладков
B30: 2 | C30: ='6'!B5 -> 28 | D30: ='6'!G5 -> 17.61 | E30: ='6'!A5 -> 1.5900057 | F30: =F31*E30/E31 -> 24.156729 | G30: =G31*F30/F31 -> 80.52243 | H30: Тюрин
B31: 1 | C31: ='6'!B6 -> 28 | D31: ='6'!G6 -> 14.18 | E31: ='6'!A6 -> 1.9746121 | F31: 30 | G31: 100 | H31: Терентьев
A33: Упражнение | B33: Место | C33: Очки | D33: Время | E33: Хит фактор | F33: Очки | G33: Процент | H33: Стрелок
A34: 7 | B34: 3 | C34: ='7'!B4 -> 15 | D34: ='7'!G4 -> 7.74 | E34: ='7'!A4 -> 1.9379845 | F34: =F36*E34/E36 -> 23.113315 | G34: =G36*F34/F36 -> 92.45326 | H34: Гладков
B35: 2 | C35: ='7'!B5 -> 23 | D35: ='7'!G5 -> 11.82 | E35: ='7'!A5 -> 1.9458545 | F35: =F36*E35/E36 -> 23.207176 | G35: =G36*F35/F36 -> 92.828705 | H35: Тюрин
B36: 1 | C36: ='7'!B6 -> 17 | D36: ='7'!G6 -> 8.11 | E36: ='7'!A6 -> 2.0961776 | F36: 25 | G36: 100 | H36: Терентьев
A38: Упражнение | B38: Место | C38: Очки | D38: Время | E38: Хит фактор | F38: Очки | G38: Процент | H38: Стрелок
A39: 8 | B39: 1 | C39: ='8'!B4 -> 48 | D39: ='8'!G4 -> 23.23 | E39: ='8'!A4 -> 2.0662936 | F39: 50 | G39: 100 | H39: Гладков
B40: 3 | C40: ='8'!B5 -> 38 | D40: ='8'!G5 -> 24.56 | E40: ='8'!A5 -> 1.5472313 | F40: =F39*E40/E39 -> 37.439773 | G40: =G39*F40/F39 -> 74.879547 | H40: Тюрин
B41: 2 | C41: ='8'!B6 -> 46 | D41: ='8'!G6 -> 26.19 | E41: ='8'!A6 -> 1.7563956 | F41: =F39*E41/E39 -> 42.501114 | G41: =G39*F41/F39 -> 85.002227 | H41: Терентьев

Sheet 1
A3: Хит фактор | B3: Очки | C3: А | D3: С | E3: D | F3: М | G3: Время | H3: Стрелок | J3: Всего альф | K3: 18
A4: =B4/G4 -> 0.89705254 | B4: =C4*5+D4*3 -> 84 | C4: 15 | D4: 3 | G4: 93.64 | H4: Гладков | J4: Всего очков | K4: =K3*5 -> 90
A5: =B5/G5 -> 0.11719322 | B5: =C5*5+D5*3-F5*10 -> 24 | C5: 11 | D5: 3 | F5: 4 | G5: 204.79 | H5: Тюрин
A6: =B6/G6 -> 0.56414219 | B6: =C6*5+D6*3-F6*10 -> 73 | C6: 16 | D6: 1 | F6: 1 | G6: 129.4 | H6: Терентьев

Sheet 2
A3: Хит фактор | B3: Очки | C3: А | D3: С | E3: D | F3: М | G3: Время | H3: Стрелок | J3: Всего альф | K3: 18
A4: =B4/G4 -> 1.0615711 | B4: =C4*5+D4*3 -> 80 | C4: 13 | D4: 5 | G4: 75.36 | H4: Гладков | J4: Всего очков | K4: =K3*5 -> 90
A5: =B5/G5 -> 1.1908059 | B5: =C5*5+D5*3-F5*10 -> 86 | C5: 16 | D5: 2 | G5: 72.22 | H5: Тюрин
A6: =B6/G6 -> 0.83663584 | B6: =C6*5+D6*3-F6*10+E6*1 -> 57 | C6: 9 | D6: 7 | E6: 1 | F6: 1 | G6: 68.13 | H6: Терентьев

Sheet 3
A3: Хит фактор | B3: Очки | C3: А | D3: С | E3: D | F3: М | G3: Время | H3: Стрелок | J3: Всего альф | K3: 5
A4: =B4/G4 -> 2.217529 | B4: =C4*5+D4*3 -> 21 | C4: 3 | D4: 2 | G4: 9.47 | H4: Гладков | J4: Всего очков | K4: =K3*5 -> 25
A5: =B5/G5 -> 2.1516393 | B5: =C5*5+D5*3-F5*10 -> 21 | C5: 3 | D5: 2 | G5: 9.76 | H5: Тюрин
A6: =B6/G6 -> 2 | B6: =C6*5+D6*3-F6*10 -> 23 | C6: 4 | D6: 1 | G6: 11.5 | H6: Терентьев

Sheet 4
A3: Хит фактор | B3: Очки | C3: А | D3: С | E3: D | F3: М | G3: Время | H3: Стрелок | J3: Всего альф | K3: 7
A4: =B4/G4 -> 0.92925659 | B4: =C4*5+D4*3+E4*1 -> 31 | C4: 6 | E4: 1 | G4: 33.36 | H4: Гладков | J4: Всего очков | K4: =K3*5 -> 35
A5: =B5/G5 -> 1.0436433 | B5: =C5*5+D5*3-F5*10 -> 33 | C5: 6 | D5: 1 | G5: 31.62 | H5: Тюрин
A6: =B6/G6 -> 0.85403727 | B6: =C6*5+D6*3-F6*10 -> 33 | C6: 6 | D6: 1 | G6: 38.64 | H6: Терентьев

Sheet 5
A3: Хит фактор | B3: Очки | C3: А | D3: С | E3: D | F3: М | G3: Время | H3: Стрелок | J3: Всего альф | K3: 20
A4: =B4/G4 -> 1.318064 | B4: =C4*5+D4*3+E4*1-F4*10 -> 61 | C4: 8 | D4: 10 | E4: 1 | F4: 1 | G4: 46.28 | H4: Гладков | J4: Всего очков | K4: =K3*5 -> 100
A5: =B5/G5 -> 1.3093839 | B5: =C5*5+D5*3-F5*10+E5*1 -> 78 | C5: 11 | D5: 7 | E5: 2 | G5: 59.57 | H5: Тюрин
A6: =B6/G6 -> -0.73611778 | B6: =C6*5+D6*3-F6*10+E6*1 -> -46 | C6: 3 | D6: 5 | E6: 4 | F6: 8 | G6: 62.49 | H6: Терентьев

Sheet 6
A3: Хит фактор | B3: Очки | C3: А | D3: С | E3: D | F3: М | G3: Время | H3: Стрелок | J3: Всего альф | K3: 6
A4: =B4/G4 -> 0.48737262 | B4: =C4*5+D4*3+E4*1-F4*10 -> 11 | C4: 4 | E4: 1 | F4: 1 | G4: 22.57 | H4: Гладков | J4: Всего очков | K4: =K3*5 -> 30
A5: =B5/G5 -> 1.5900057 | B5: =C5*5+D5*3-F5*10 -> 28 | C5: 5 | D5: 1 | G5: 17.61 | H5: Тюрин
A6: =B6/G6 -> 1.9746121 | B6: =C6*5+D6*3-F6*10 -> 28 | C6: 5 | D6: 1 | G6: 14.18 | H6: Терентьев

Sheet 7
A3: Хит фактор | B3: Очки | C3: А | D3: С | E3: D | F3: М | G3: Время | H3: Стрелок | J3: Всего альф | K3: 5
A4: =B4/G4 -> 1.9379845 | B4: =C4*5+D4*3 -> 15 | D4: 5 | G4: 7.74 | H4: Гладков | J4: Всего очков | K4: =K3*5 -> 25
A5: =B5/G5 -> 1.9458545 | B5: =C5*5+D5*3-F5*10 -> 23 | C5: 4 | D5: 1 | G5: 11.82 | H5: Тюрин
A6: =B6/G6 -> 2.0961776 | B6: =C6*5+D6*3-F6*10 -> 17 | C6: 1 | D6: 4 | G6: 8.11 | H6: Терентьев

Sheet 8
A3: Хит фактор | B3: Очки | C3: А | D3: С | E3: D | F3: М | G3: Время | H3: Стрелок | J3: Всего альф | K3: 10
A4: =B4/G4 -> 2.0662936 | B4: =C4*5+D4*3 -> 48 | C4: 9 | D4: 1 | G4: 23.23 | H4: Гладков | J4: Всего очков | K4: =K3*5 -> 50
A5: =B5/G5 -> 1.5472313 | B5: =C5*5+D5*3-F5*10+E5*1 -> 38 | C5: 5 | D5: 4 | E5: 1 | G5: 24.56 | H5: Тюрин
A6: =B6/G6 -> 1.7563956 | B6: =C6*5+D6*3-F6*10 -> 46 | C6: 8 | D6: 2 | G6: 26.19 | H6: Терентьев

Sheet ИТОГО
A3: Место | B3: % | C3: Очки | D3: Стрелок
A4: 1 | B4: 100 | C4: ='Общее по упражнеиям'!F4+'Общее по упражнеиям'!F9+'Общее по упражнеиям'!F14+'Общее по упражнеиям'!F19+'Общее по упражнеиям'!F24+'Общее по упражнеиям'!F29+'Общее по упражнеиям'!F34+'Общее по упражнеиям'!F39 -> 406.91434 | D4: Гладков
A5: 2 | B5: =B4*C5/C4 -> 84.823782 | C5: ='Общее по упражнеиям'!F5+'Общее по упражнеиям'!F10+'Общее по упражнеиям'!F15+'Общее по упражнеиям'!F20+'Общее по упражнеиям'!F25+'Общее по упражнеиям'!F30+'Общее по упражнеиям'!F35+'Общее по упражнеиям'!F40 -> 345.16013 | D5: Тюрин
A6: 3 | B6: =B4*C6/C4 -> 65.989755 | C6: ='Общее по упражнеиям'!F6+'Общее по упражнеиям'!F11+'Общее по упражнеиям'!F16+'Общее по упражнеиям'!F21+'Общее по упражнеиям'!F26+'Общее по упражнеиям'!F31+'Общее по упражнеиям'!F36+'Общее по упражнеиям'!F41 -> 268.52178 | D6: Терентьев
